BEGIN:VCALENDAR
VERSION:2.0
CALSCALE:GREGORIAN
PRODID:-//WordPress//RSVPMaker//EN
METHOD:REQUEST
BEGIN:VEVENT
DTSTAMP:20260424T093324Z
UID:801FD8C2A4E79C1D24A40DC735C051AE@rsvpmaker.com
SEQUENCE:0
STATUS:CONFIRMED
DTSTART:20190227T170000Z
DTEND:20190227T180000Z
LOCATION:See\: https\://www.uupsbu.org/rsvpmaker/uup-workshop-paid-fam
 ily-leave/
SUMMARY:UUP Workshop - Paid Family Leave
DESCRIPTION:Event info\: https\://www.uupsbu.org/rsvpmaker/uup-worksho
 p-paid-family-leave/
END:VEVENT
END:VCALENDAR