BEGIN:VCALENDAR
VERSION:2.0
CALSCALE:GREGORIAN
PRODID:-//WordPress//RSVPMaker//EN
METHOD:REQUEST
BEGIN:VEVENT
DTSTAMP:20260424T232012Z
UID:C0CCCC24DD23DED67404F5E511C342B0@rsvpmaker.com
SEQUENCE:0
STATUS:CONFIRMED
DTSTART:20241107T160000Z
DTEND:20241107T170000Z
LOCATION:See\: https\://www.uupsbu.org/rsvpmaker/uup101-election-cycle
 /
SUMMARY:UUP101 Election Cycle
DESCRIPTION:Event info\: https\://www.uupsbu.org/rsvpmaker/uup101-elec
 tion-cycle/
END:VEVENT
END:VCALENDAR