BEGIN:VCALENDAR
VERSION:2.0
CALSCALE:GREGORIAN
PRODID:-//WordPress//RSVPMaker//EN
METHOD:REQUEST
BEGIN:VEVENT
DTSTAMP:20260425T124112Z
UID:15C71B874531F45BBA372BFC35E9B8CF@rsvpmaker.com
SEQUENCE:0
STATUS:CONFIRMED
DTSTART:20240321T160000Z
DTEND:20240321T170000Z
LOCATION:See\: https\://www.uupsbu.org/rsvpmaker/uups-pre-retirement-w
 orkshops-2/
SUMMARY:UUP’s Pre-Retirement Workshops
DESCRIPTION:Event info\: https\://www.uupsbu.org/rsvpmaker/uups-pre-re
 tirement-workshops-2/
END:VEVENT
END:VCALENDAR