BEGIN:VCALENDAR
VERSION:2.0
CALSCALE:GREGORIAN
PRODID:-//WordPress//RSVPMaker//EN
METHOD:REQUEST
BEGIN:VEVENT
DTSTAMP:20260425T122515Z
UID:AFECC60F82BE41C1B52F6705EC69E0F1@rsvpmaker.com
SEQUENCE:0
STATUS:CONFIRMED
DTSTART:20240319T160000Z
DTEND:20240319T170000Z
LOCATION:See\: https\://www.uupsbu.org/rsvpmaker/uups-pre-retirement-w
 orkshops/
SUMMARY:UUP’s Pre-Retirement Workshops
DESCRIPTION:Event info\: https\://www.uupsbu.org/rsvpmaker/uups-pre-re
 tirement-workshops/
END:VEVENT
END:VCALENDAR