BEGIN:VCALENDAR
VERSION:2.0
CALSCALE:GREGORIAN
PRODID:-//WordPress//RSVPMaker//EN
METHOD:REQUEST
BEGIN:VEVENT
DTSTAMP:20260424T231034Z
UID:C361BC7B2C033A83D663B8D9FB4BE56E@rsvpmaker.com
SEQUENCE:0
STATUS:CONFIRMED
DTSTART:20161111T170000Z
DTEND:20161111T180000Z
LOCATION:See\: https\://www.uupsbu.org/rsvpmaker/veterans-day-2016-11-
 11/
SUMMARY:Veterans Day
DESCRIPTION:Event info\: https\://www.uupsbu.org/rsvpmaker/veterans-da
 y-2016-11-11/
END:VEVENT
END:VCALENDAR