BEGIN:VCALENDAR
VERSION:2.0
CALSCALE:GREGORIAN
PRODID:-//WordPress//RSVPMaker//EN
METHOD:REQUEST
BEGIN:VEVENT
DTSTAMP:20260424T051349Z
UID:692F93BE8C7A41525C0BAF2076AECFB4@rsvpmaker.com
SEQUENCE:0
STATUS:CONFIRMED
DTSTART:20171111T170000Z
DTEND:20171111T180000Z
LOCATION:See\: https\://www.uupsbu.org/rsvpmaker/veterans-day-2017-11-
 11/
SUMMARY:Veterans Day
DESCRIPTION:Event info\: https\://www.uupsbu.org/rsvpmaker/veterans-da
 y-2017-11-11/
END:VEVENT
END:VCALENDAR