BEGIN:VCALENDAR
VERSION:2.0
CALSCALE:GREGORIAN
PRODID:-//WordPress//RSVPMaker//EN
METHOD:REQUEST
BEGIN:VEVENT
DTSTAMP:20260425T105425Z
UID:C68BD9055776BF38D8FC43C0ED283678@rsvpmaker.com
SEQUENCE:0
STATUS:CONFIRMED
DTSTART:20240424T210000Z
DTEND:20240424T223000Z
LOCATION:See\: https\://www.uupsbu.org/rsvpmaker/virtual-public-servic
 e-loan-forgiveness-pslf-clinics-2/
SUMMARY:Virtual Public Service Loan Forgiveness (PSLF) Clinics
DESCRIPTION:Event info\: https\://www.uupsbu.org/rsvpmaker/virtual-pub
 lic-service-loan-forgiveness-pslf-clinics-2/
END:VEVENT
END:VCALENDAR