BEGIN:VCALENDAR
VERSION:2.0
CALSCALE:GREGORIAN
PRODID:-//WordPress//RSVPMaker//EN
METHOD:REQUEST
BEGIN:VEVENT
DTSTAMP:20260425T124127Z
UID:E2C4C0B38669387A2A842E1FE391D233@rsvpmaker.com
SEQUENCE:0
STATUS:CONFIRMED
DTSTART:20240410T153000Z
DTEND:20240410T170000Z
LOCATION:See\: https\://www.uupsbu.org/rsvpmaker/virtual-public-servic
 e-loan-forgiveness-pslf-clinics/
SUMMARY:Virtual Public Service Loan Forgiveness (PSLF) Clinics
DESCRIPTION:Event info\: https\://www.uupsbu.org/rsvpmaker/virtual-pub
 lic-service-loan-forgiveness-pslf-clinics/
END:VEVENT
END:VCALENDAR