BEGIN:VCALENDAR
VERSION:2.0
CALSCALE:GREGORIAN
PRODID:-//WordPress//RSVPMaker//EN
METHOD:REQUEST
BEGIN:VEVENT
DTSTAMP:20260424T185015Z
UID:8EBDA540CBCC4D7336496819A46A1B68@rsvpmaker.com
SEQUENCE:0
STATUS:CONFIRMED
DTSTART:20170220T170000Z
DTEND:20170220T180000Z
LOCATION:See\: https\://www.uupsbu.org/rsvpmaker/washingtons-birthday-
 2017-2-20/
SUMMARY:Washington's Birthday
DESCRIPTION:Event info\: https\://www.uupsbu.org/rsvpmaker/washingtons
 -birthday-2017-2-20/
END:VEVENT
END:VCALENDAR