BEGIN:VCALENDAR
VERSION:2.0
CALSCALE:GREGORIAN
PRODID:-//WordPress//RSVPMaker//EN
METHOD:REQUEST
BEGIN:VEVENT
DTSTAMP:20260424T185724Z
UID:C6AE9174774E254650073722E5B92A8F@rsvpmaker.com
SEQUENCE:0
STATUS:CONFIRMED
DTSTART:20250212T203000Z
DTEND:20250212T223000Z
LOCATION:See\: https\://www.uupsbu.org/rsvpmaker/we-heart-uup-hot-choc
 olate-bar/
SUMMARY:"We Heart UUP" Hot Chocolate Bar
DESCRIPTION:Event info\: https\://www.uupsbu.org/rsvpmaker/we-heart-uu
 p-hot-chocolate-bar/
END:VEVENT
END:VCALENDAR