BEGIN:VCALENDAR
VERSION:2.0
CALSCALE:GREGORIAN
PRODID:-//WordPress//RSVPMaker//EN
METHOD:REQUEST
BEGIN:VEVENT
DTSTAMP:20260424T010943Z
UID:61BFDC160E4C099203C72258D8825340@rsvpmaker.com
SEQUENCE:0
STATUS:CONFIRMED
DTSTART:20260211T180000Z
DTEND:20260211T200000Z
LOCATION:See\: https\://www.uupsbu.org/rsvpmaker/we-love-uup-hot-choco
 late-event-2/
SUMMARY:We Love UUP Hot Chocolate Event
DESCRIPTION:Event info\: https\://www.uupsbu.org/rsvpmaker/we-love-uup
 -hot-chocolate-event-2/
END:VEVENT
END:VCALENDAR