BEGIN:VCALENDAR
VERSION:2.0
CALSCALE:GREGORIAN
PRODID:-//WordPress//RSVPMaker//EN
METHOD:REQUEST
BEGIN:VEVENT
DTSTAMP:20260425T222401Z
UID:918F5CD5A5C0D48671D4D4FC54BAB2E9@rsvpmaker.com
SEQUENCE:0
STATUS:CONFIRMED
DTSTART:20230914T160000Z
DTEND:20230914T180000Z
LOCATION:See\: https\://www.uupsbu.org/rsvpmaker/welcome-back-bbq-2/
SUMMARY:Welcome Back BBQ
DESCRIPTION:Event info\: https\://www.uupsbu.org/rsvpmaker/welcome-bac
 k-bbq-2/
END:VEVENT
END:VCALENDAR