BEGIN:VCALENDAR
VERSION:2.0
CALSCALE:GREGORIAN
PRODID:-//WordPress//RSVPMaker//EN
METHOD:REQUEST
BEGIN:VEVENT
DTSTAMP:20260424T081151Z
UID:05E2A0647E260C355DD2B2175EDB45B8@rsvpmaker.com
SEQUENCE:0
STATUS:CONFIRMED
DTSTART:20250918T160000Z
DTEND:20250918T180000Z
LOCATION:See\: https\://www.uupsbu.org/rsvpmaker/welcome-back-bbq-3/
SUMMARY:Welcome Back BBQ
DESCRIPTION:Event info\: https\://www.uupsbu.org/rsvpmaker/welcome-bac
 k-bbq-3/
END:VEVENT
END:VCALENDAR