BEGIN:VCALENDAR
VERSION:2.0
CALSCALE:GREGORIAN
PRODID:-//WordPress//RSVPMaker//EN
METHOD:REQUEST
BEGIN:VEVENT
DTSTAMP:20260425T022509Z
UID:605FF764C617D3CD28DBBDD72BE8F9A2@rsvpmaker.com
SEQUENCE:0
STATUS:CONFIRMED
DTSTART:20160921T160000Z
DTEND:20160921T170000Z
LOCATION:See\: https\://www.uupsbu.org/rsvpmaker/welcome-back-bbq-memb
 ership-meeting-2016-09-21/
SUMMARY:Welcome back BBQ - Membership Meeting
DESCRIPTION:Event info\: https\://www.uupsbu.org/rsvpmaker/welcome-bac
 k-bbq-membership-meeting-2016-09-21/
END:VEVENT
END:VCALENDAR