BEGIN:VCALENDAR
VERSION:2.0
CALSCALE:GREGORIAN
PRODID:-//WordPress//RSVPMaker//EN
METHOD:REQUEST
BEGIN:VEVENT
DTSTAMP:20260425T022751Z
UID:93129BCA9FB2D3CB3470E2B9CFDE7F63@rsvpmaker.com
SEQUENCE:0
STATUS:CONFIRMED
DTSTART:20240923T160000Z
DTEND:20240923T170000Z
LOCATION:See\: https\://www.uupsbu.org/rsvpmaker/welcome-back-bbq-rain
 -date/
SUMMARY:Welcome Back BBQ (rain date)
DESCRIPTION:Event info\: https\://www.uupsbu.org/rsvpmaker/welcome-bac
 k-bbq-rain-date/
END:VEVENT
END:VCALENDAR