BEGIN:VCALENDAR
VERSION:2.0
CALSCALE:GREGORIAN
PRODID:-//WordPress//RSVPMaker//EN
METHOD:REQUEST
BEGIN:VEVENT
DTSTAMP:20260424T092415Z
UID:8B6DD7DB9AF49E67306FEB59A8BDC52C@rsvpmaker.com
SEQUENCE:0
STATUS:CONFIRMED
DTSTART:20170920T160000Z
DTEND:20170920T170000Z
LOCATION:See\: https\://www.uupsbu.org/rsvpmaker/welcome-back-general-
 membership-meeting-2017-09-20/
SUMMARY:Welcome Back - General Membership Meeting
DESCRIPTION:Event info\: https\://www.uupsbu.org/rsvpmaker/welcome-bac
 k-general-membership-meeting-2017-09-20/
END:VEVENT
END:VCALENDAR