BEGIN:VCALENDAR
VERSION:2.0
CALSCALE:GREGORIAN
PRODID:-//WordPress//RSVPMaker//EN
METHOD:REQUEST
BEGIN:VEVENT
DTSTAMP:20260424T034749Z
UID:E205EE2A5DE471A70C1FD1B46033A75F@rsvpmaker.com
SEQUENCE:0
STATUS:CONFIRMED
DTSTART:20171206T133000Z
DTEND:20171206T143000Z
LOCATION:See\: https\://www.uupsbu.org/rsvpmaker/winter-breakfast-gene
 ral-membership-meeting-2017-12-06/
SUMMARY:Winter Breakfast - General Membership Meeting
DESCRIPTION:Event info\: https\://www.uupsbu.org/rsvpmaker/winter-brea
 kfast-general-membership-meeting-2017-12-06/
END:VEVENT
END:VCALENDAR