BEGIN:VCALENDAR
VERSION:2.0
CALSCALE:GREGORIAN
PRODID:-//WordPress//RSVPMaker//EN
METHOD:REQUEST
BEGIN:VEVENT
DTSTAMP:20260424T034859Z
UID:7CCA4A9404ACC5243F0B77C16FF4A477@rsvpmaker.com
SEQUENCE:0
STATUS:CONFIRMED
DTSTART:20251203T150000Z
DTEND:20251203T160000Z
LOCATION:See\: https\://www.uupsbu.org/rsvpmaker/winter-breakfast-gene
 ral-membership-meeting/
SUMMARY:Winter Breakfast / General Membership meeting
DESCRIPTION:Event info\: https\://www.uupsbu.org/rsvpmaker/winter-brea
 kfast-general-membership-meeting/
END:VEVENT
END:VCALENDAR