BEGIN:VCALENDAR
VERSION:2.0
CALSCALE:GREGORIAN
PRODID:-//WordPress//RSVPMaker//EN
METHOD:REQUEST
BEGIN:VEVENT
DTSTAMP:20260425T134403Z
UID:25DDC0F8C9D3E22E03D3076F98D83CB2@rsvpmaker.com
SEQUENCE:0
STATUS:CONFIRMED
DTSTART:20160223T170000Z
DTEND:20160223T180000Z
LOCATION:See\: https\://www.uupsbu.org/rsvpmaker/womens-concerns-works
 hop-2016-2-23/
SUMMARY:Women's Concerns Workshop
DESCRIPTION:Event info\: https\://www.uupsbu.org/rsvpmaker/womens-conc
 erns-workshop-2016-2-23/
END:VEVENT
END:VCALENDAR