BEGIN:VCALENDAR
VERSION:2.0
CALSCALE:GREGORIAN
PRODID:-//WordPress//RSVPMaker//EN
METHOD:REQUEST
BEGIN:VEVENT
DTSTAMP:20260425T165250Z
UID:6FAA8040DA20EF399B63A72D0E4AB575@rsvpmaker.com
SEQUENCE:0
STATUS:CONFIRMED
DTSTART:20151209T170000Z
DTEND:20151209T180000Z
LOCATION:See\: https\://www.uupsbu.org/rsvpmaker/yoga-workshop-2015-12
 -9/
SUMMARY:Yoga Workshop
DESCRIPTION:Event info\: https\://www.uupsbu.org/rsvpmaker/yoga-worksh
 op-2015-12-9/
END:VEVENT
END:VCALENDAR